BEGIN:VCALENDAR
VERSION:2.0
PRODID:-//Banda de Cornetas y Tambores Esencia - ECPv6.0.12//NONSGML v1.0//EN
CALSCALE:GREGORIAN
METHOD:PUBLISH
X-ORIGINAL-URL:https://amigosdeesencia.com
X-WR-CALDESC:Eventos para Banda de Cornetas y Tambores Esencia
REFRESH-INTERVAL;VALUE=DURATION:PT1H
X-Robots-Tag:noindex
X-PUBLISHED-TTL:PT1H
BEGIN:VTIMEZONE
TZID:Europe/Madrid
BEGIN:DAYLIGHT
TZOFFSETFROM:+0100
TZOFFSETTO:+0200
TZNAME:CEST
DTSTART:20260329T010000
END:DAYLIGHT
BEGIN:STANDARD
TZOFFSETFROM:+0200
TZOFFSETTO:+0100
TZNAME:CET
DTSTART:20261025T010000
END:STANDARD
END:VTIMEZONE
BEGIN:VEVENT
DTSTART;TZID=Europe/Madrid:20260307T170000
DTEND;TZID=Europe/Madrid:20260307T180000
DTSTAMP:20260422T111912
CREATED:20260205T083025Z
LAST-MODIFIED:20260308T204516Z
UID:7190-1772902800-1772906400@amigosdeesencia.com
SUMMARY:Certamen de Bandas en Montellano 2026
DESCRIPTION:El próximo sábado 7 de marzo la Banda de Cornetas y Tambores Esencia actuará en el Certamen de Bandas de Montellano\, promovido por el ayuntamiento de la localidad. \nLa actuación dará comiendo a las 16:30h con un pasacalles\, para posteriormente interpretar una serie de marchas procesionales a partir de las 17h.
URL:https://amigosdeesencia.com/actuaciones/certamen-de-bandas-en-montellano-2026
LOCATION:Córdoba
ATTACH;FMTTYPE=image/jpeg:https://amigosdeesencia.com/wp-content/uploads/2026/02/cartel-definitivo-montellano.jpeg
END:VEVENT
BEGIN:VEVENT
DTSTART;TZID=Europe/Madrid:20260313T213000
DTEND;TZID=Europe/Madrid:20260313T223000
DTSTAMP:20260422T111912
CREATED:20260205T164359Z
LAST-MODIFIED:20260311T180642Z
UID:7192-1773437400-1773441000@amigosdeesencia.com
SUMMARY:Concierto en la Capilla del Colegio de La Salle Felipe Benito 2026
DESCRIPTION:El próximo 13 de marzo la Banda de Cornetas y Tambores Esencia ofrecerá un concierto en la Capilla del Colegio de La Salle Felipe Benito\, donde nuestros sones se podrán escuchar en la 14ª edición de la Exaltación de la Semana Santa\, organizada por la Tertulia Cofrade «El Costero» . \nOs esperamos.
URL:https://amigosdeesencia.com/actuaciones/concierto-en-la-capilla-del-colegio-de-la-salle-felipe-benito-2026
LOCATION:Capilla Colegio La Salle Felipe Benito\, Avenida San Juan de la Salle\, 2\, Sevilla\, Sevilla\, 41008\, España
ATTACH;FMTTYPE=image/png:https://amigosdeesencia.com/wp-content/uploads/2026/02/concierto-la-salle.png
END:VEVENT
BEGIN:VEVENT
DTSTART;TZID=Europe/Madrid:20260320T210000
DTEND;TZID=Europe/Madrid:20260320T210000
DTSTAMP:20260422T111912
CREATED:20260205T165654Z
LAST-MODIFIED:20260318T094211Z
UID:7196-1774040400-1774040400@amigosdeesencia.com
SUMMARY:Concierto en la Basílica de la Macarena 2026
DESCRIPTION:La Banda de Cornetas y Tambores Esencia ofrecerá un concierto de marchas procesionales en la Basílica de la Macarena el día 20 de marzo de 2026. \n  \nSerá la segunda vez que nuestra formación ponga sus sones ante los titulares de la Hermandad de la Macarena\, siendo la primera en el año 2014. \n  \nTendrá lugar a las 21h y se interpretarán una serie de marchas procesionales de corte clásico. \n  \nOs esperamos.
URL:https://amigosdeesencia.com/actuaciones/concierto-en-la-basilica-de-la-macarena-2026
LOCATION:Basílica de la Macarena\, Plaza de la Esperanza Macarena\, 1\, Sevilla\, Sevilla\, 41002\, España
ATTACH;FMTTYPE=image/png:https://amigosdeesencia.com/wp-content/uploads/2026/02/cartel-macarena-definitivo.png
END:VEVENT
BEGIN:VEVENT
DTSTART;TZID=Europe/Madrid:20260321T200000
DTEND;TZID=Europe/Madrid:20260321T210000
DTSTAMP:20260422T111912
CREATED:20260206T081834Z
LAST-MODIFIED:20260319T222027Z
UID:7200-1774123200-1774126800@amigosdeesencia.com
SUMMARY:Concierto en la Parroquia de San Joaquín 2026
DESCRIPTION:El próximo 21 de marzo de 2026 la Banda de Cornetas y Tambores Esencia ofrecerá un concierto en la Parroquia de San Joaquín\, en el barrio de Triana. \n  \nLa hora del concierto está fijada a las 20:00h. Os esperamos.
URL:https://amigosdeesencia.com/actuaciones/concierto-en-la-parroquia-de-san-joaquin-2026
LOCATION:Parroquia de San Joaquín\, Calle Papa Juan Pablo I\, S/N\, Sevilla\, Sevilla\, 41010\, España
ATTACH;FMTTYPE=image/png:https://amigosdeesencia.com/wp-content/uploads/2026/02/cartel-san-joaquin.png
END:VEVENT
BEGIN:VEVENT
DTSTART;TZID=Europe/Madrid:20260328T183500
DTEND;TZID=Europe/Madrid:20260328T233000
DTSTAMP:20260422T111912
CREATED:20260324T191222Z
LAST-MODIFIED:20260409T182812Z
UID:7371-1774722900-1774740600@amigosdeesencia.com
SUMMARY:Cofradía de la Piedad 2026
DESCRIPTION:Acompañamiento de la Banda de Cornetas y Tambores Esencia tras el paso de Cristo de la Cofradía de la Piedad (Cádiz). \n  \nSerá la primera vez que nuestra formación ponga sus sones tras esta imagen\, coincidiendo con su regreso a la jornada del Sábado de Pasión. A su vez será la primera vez que Esencia actúe en la Semana Santa de Cádiz\, y qué mejor manera que hacerlo acompañando al Nuestro Padre Jesús de la Humillación. \n  \n—— Actualización \n🗞️ Crónica escrita por nuestra compañera Marian Agudo Silva: https://amigosdeesencia.com/sabado-de-pasion-2026-esencia-se-estreno-en-cadiz-tras-ntro-padre-jesus-de-la-humillacion \n 
URL:https://amigosdeesencia.com/actuaciones/cofradia-de-la-piedad-2026
LOCATION:Iglesia de Santiago Apostol\, Plaza de la Catedral\, Cádiz\, Cádiz\, 11005\, España
ATTACH;FMTTYPE=image/jpeg:https://amigosdeesencia.com/wp-content/uploads/2026/03/humillacion.jpeg
END:VEVENT
BEGIN:VEVENT
DTSTART;TZID=Europe/Madrid:20260331T170000
DTEND;TZID=Europe/Madrid:20260331T231500
DTSTAMP:20260422T111912
CREATED:20260324T190536Z
LAST-MODIFIED:20260324T190536Z
UID:7366-1774976400-1774998900@amigosdeesencia.com
SUMMARY:Hermandad del Císter 2026
DESCRIPTION:Acompañamiento de la Banda de Cornetas y Tambores Esencia tras el paso de misterio de la Hermandad del Císter (Córdoba). 10 años después nuestra formación vuelve a poner sus sones tras Nuestro Padre Jesús de la Sangre en el Desprecio del Pueblo.
URL:https://amigosdeesencia.com/actuaciones/hermandad-del-cister-2026
LOCATION:Convento del Santo Angel\, Plaza de Capuchinos\, Córdoba\, Córdoba\, 14001\, España
ATTACH;FMTTYPE=image/jpeg:https://amigosdeesencia.com/wp-content/uploads/2026/03/cister.jpg
END:VEVENT
END:VCALENDAR