BEGIN:VCALENDAR
VERSION:2.0
PRODID:-//Banda de Cornetas y Tambores Esencia - ECPv6.0.12//NONSGML v1.0//EN
CALSCALE:GREGORIAN
METHOD:PUBLISH
X-ORIGINAL-URL:https://amigosdeesencia.com
X-WR-CALDESC:Eventos para Banda de Cornetas y Tambores Esencia
REFRESH-INTERVAL;VALUE=DURATION:PT1H
X-Robots-Tag:noindex
X-PUBLISHED-TTL:PT1H
BEGIN:VTIMEZONE
TZID:Europe/Madrid
BEGIN:DAYLIGHT
TZOFFSETFROM:+0100
TZOFFSETTO:+0200
TZNAME:CEST
DTSTART:20250330T010000
END:DAYLIGHT
BEGIN:STANDARD
TZOFFSETFROM:+0200
TZOFFSETTO:+0100
TZNAME:CET
DTSTART:20251026T010000
END:STANDARD
END:VTIMEZONE
BEGIN:VEVENT
DTSTART;TZID=Europe/Madrid:20250619T200000
DTEND;TZID=Europe/Madrid:20250619T230000
DTSTAMP:20260421T145558
CREATED:20250617T065916Z
LAST-MODIFIED:20250617T065916Z
UID:6733-1750363200-1750374000@amigosdeesencia.com
SUMMARY:Corpus Christi de la Puebla del Río 2025
DESCRIPTION:Actuación de la Banda de Cornetas y Tambores Esencia en el Corpus Christi de la Puebla del Río\, acompañando al paso de San Sebastián\, patrón de la localidad cigarrera.
URL:https://amigosdeesencia.com/actuaciones/corpus-christi-de-la-puebla-del-rio-2025
LOCATION:Puebla del Río
ATTACH;FMTTYPE=image/jpeg:https://amigosdeesencia.com/wp-content/uploads/2025/06/cartel-corpus-puebla-del-rio.jpg
ORGANIZER;CN="Hermandad%20Sacramental%20de%20la%20Puebla%20del%20R%C3%ADo":MAILTO:sacramental.puebladelrio@gmail.com
END:VEVENT
END:VCALENDAR