BEGIN:VCALENDAR
VERSION:2.0
PRODID:-//Banda de Cornetas y Tambores Esencia - ECPv6.0.12//NONSGML v1.0//EN
CALSCALE:GREGORIAN
METHOD:PUBLISH
X-ORIGINAL-URL:https://amigosdeesencia.com
X-WR-CALDESC:Eventos para Banda de Cornetas y Tambores Esencia
REFRESH-INTERVAL;VALUE=DURATION:PT1H
X-Robots-Tag:noindex
X-PUBLISHED-TTL:PT1H
BEGIN:VTIMEZONE
TZID:Europe/Paris
BEGIN:DAYLIGHT
TZOFFSETFROM:+0100
TZOFFSETTO:+0200
TZNAME:CEST
DTSTART:20250330T010000
END:DAYLIGHT
BEGIN:STANDARD
TZOFFSETFROM:+0200
TZOFFSETTO:+0100
TZNAME:CET
DTSTART:20251026T010000
END:STANDARD
TZID:Europe/Madrid
BEGIN:DAYLIGHT
TZOFFSETFROM:+0100
TZOFFSETTO:+0200
TZNAME:CEST
DTSTART:20250330T010000
END:DAYLIGHT
BEGIN:STANDARD
TZOFFSETFROM:+0200
TZOFFSETTO:+0100
TZNAME:CET
DTSTART:20251026T010000
END:STANDARD
END:VTIMEZONE
BEGIN:VEVENT
DTSTART;TZID=Europe/Paris:20250413T110000
DTEND;TZID=Europe/Paris:20250413T154500
DTSTAMP:20260421T124240
CREATED:20240925T095427Z
LAST-MODIFIED:20240925T100559Z
UID:6448-1744542000-1744559100@amigosdeesencia.com
SUMMARY:Borriquita de La Puebla del Río 2025
DESCRIPTION:Acompañamiento de la Banda de Cornetas y Tambores Esencia tras el paso de misterio de la Sagrada Entrada en Jerusalén\, el cual procesionará por las calles de la vecina localidad de La Puebla del Río el próximo Domingo de Ramos de 2025.
URL:https://amigosdeesencia.com/actuaciones/borriquita-puebla-del-rio-2025
LOCATION:Iglesia Nuestra Señora de la Granada\, Plaza Santísimo Cristo del Perdón\, La Puebla del Río\, Sevilla\, 41130\, España
ATTACH;FMTTYPE=image/jpeg:https://amigosdeesencia.com/wp-content/uploads/2024/09/FB_IMG_1711289269067-1-e1727258682148.jpg
END:VEVENT
BEGIN:VEVENT
DTSTART;VALUE=DATE:20250415
DTEND;VALUE=DATE:20250416
DTSTAMP:20260421T124240
CREATED:20241209T105943Z
LAST-MODIFIED:20241209T110214Z
UID:6528-1744675200-1744761599@amigosdeesencia.com
SUMMARY:Hermandad del Consuelo 2025
DESCRIPTION:Acompañamiento de la Banda de Cornetas y Tambores Esencia tras el paso de misterio de Nuestro Padre Jesús del Consuelo\, el cual procesionará por las calles de Sanlúcar de Barrameda el próximo Martes Santo de 2025.
URL:https://amigosdeesencia.com/actuaciones/hermandad-del-consuelo-2025
LOCATION:Parroquia del Carmen\, Calle San Juan\, 29\, Sanlúcar de Barrameda\, Cádiz\, 11540\, España
ATTACH;FMTTYPE=image/jpeg:https://amigosdeesencia.com/wp-content/uploads/2024/06/jesus-del-consuelo-2024.jpg
END:VEVENT
BEGIN:VEVENT
DTSTART;TZID=Europe/Madrid:20250416T193000
DTEND;TZID=Europe/Madrid:20250417T030000
DTSTAMP:20260421T124240
CREATED:20241209T110608Z
LAST-MODIFIED:20241209T110820Z
UID:6533-1744831800-1744858800@amigosdeesencia.com
SUMMARY:Hermandad de Las Siete Palabras 2025
DESCRIPTION:Acompañamiento de la Banda de Cornetas y Tambores Esencia tras el paso de misterio de la Hermandad de Las Siete Palabras\, el cual procesionará por las calles de Sevilla el próximo Miércoles Santo de 2025.
URL:https://amigosdeesencia.com/actuaciones/hermandad-de-las-siete-palabras-2025
LOCATION:Parroquia San Vicente Mártir de Sevilla\, Calle Miguel Cid\, Número 1\, Sevilla\, Sevilla\, 41002
ATTACH;FMTTYPE=image/jpeg:https://amigosdeesencia.com/wp-content/uploads/2024/12/miercoles-santo-mariano-lopez-montes-scaled-e1733742485778.jpg
END:VEVENT
BEGIN:VEVENT
DTSTART;TZID=Europe/Madrid:20250417T183000
DTEND;TZID=Europe/Madrid:20250417T233000
DTSTAMP:20260421T124240
CREATED:20241209T111411Z
LAST-MODIFIED:20241209T111411Z
UID:6537-1744914600-1744932600@amigosdeesencia.com
SUMMARY:Hermandad de La Lanzada 2025
DESCRIPTION:Acompañamiento de la Banda de Cornetas y Tambores Esencia tras el paso de misterio de la Hermandad de La Lanzada\, el cual procesionará por las calles de Jerez de la Frontera el próximo Jueves Santo de 2025. Será la primera vez que nuestra formación ponga sus sones tras este paso de misterio\, el cual acostumbraba a llevar banda de música en los últimos años.
URL:https://amigosdeesencia.com/actuaciones/hermandad-de-la-lanzada-2025
LOCATION:Basílica de Nuestra Señora del Carmen\, Plaza del Carmen\, 1\, Jerez de la Frontera\, Cádiz\, 11403\, España
ATTACH;FMTTYPE=image/jpeg:https://amigosdeesencia.com/wp-content/uploads/2024/10/acuerdo-lanzada-jerez-cuadrada.jpeg
END:VEVENT
END:VCALENDAR