BEGIN:VCALENDAR
VERSION:2.0
PRODID:-//Banda de Cornetas y Tambores Esencia - ECPv6.0.12//NONSGML v1.0//EN
CALSCALE:GREGORIAN
METHOD:PUBLISH
X-WR-CALNAME:Banda de Cornetas y Tambores Esencia
X-ORIGINAL-URL:https://amigosdeesencia.com
X-WR-CALDESC:Eventos para Banda de Cornetas y Tambores Esencia
REFRESH-INTERVAL;VALUE=DURATION:PT1H
X-Robots-Tag:noindex
X-PUBLISHED-TTL:PT1H
BEGIN:VTIMEZONE
TZID:Europe/Madrid
BEGIN:DAYLIGHT
TZOFFSETFROM:+0100
TZOFFSETTO:+0200
TZNAME:CEST
DTSTART:20260329T010000
END:DAYLIGHT
BEGIN:STANDARD
TZOFFSETFROM:+0200
TZOFFSETTO:+0100
TZNAME:CET
DTSTART:20261025T010000
END:STANDARD
END:VTIMEZONE
BEGIN:VEVENT
DTSTART;TZID=Europe/Madrid:20260331T170000
DTEND;TZID=Europe/Madrid:20260331T231500
DTSTAMP:20260420T125348
CREATED:20260324T190536Z
LAST-MODIFIED:20260324T190536Z
UID:7366-1774976400-1774998900@amigosdeesencia.com
SUMMARY:Hermandad del Císter 2026
DESCRIPTION:Acompañamiento de la Banda de Cornetas y Tambores Esencia tras el paso de misterio de la Hermandad del Císter (Córdoba). 10 años después nuestra formación vuelve a poner sus sones tras Nuestro Padre Jesús de la Sangre en el Desprecio del Pueblo.
URL:https://amigosdeesencia.com/actuaciones/hermandad-del-cister-2026
LOCATION:Convento del Santo Angel\, Plaza de Capuchinos\, Córdoba\, Córdoba\, 14001\, España
ATTACH;FMTTYPE=image/jpeg:https://amigosdeesencia.com/wp-content/uploads/2026/03/cister.jpg
END:VEVENT
END:VCALENDAR