BEGIN:VCALENDAR
VERSION:2.0
PRODID:-//Banda de Cornetas y Tambores Esencia - ECPv6.0.12//NONSGML v1.0//EN
CALSCALE:GREGORIAN
METHOD:PUBLISH
X-WR-CALNAME:Banda de Cornetas y Tambores Esencia
X-ORIGINAL-URL:https://amigosdeesencia.com
X-WR-CALDESC:Eventos para Banda de Cornetas y Tambores Esencia
REFRESH-INTERVAL;VALUE=DURATION:PT1H
X-Robots-Tag:noindex
X-PUBLISHED-TTL:PT1H
BEGIN:VTIMEZONE
TZID:Europe/Madrid
BEGIN:DAYLIGHT
TZOFFSETFROM:+0100
TZOFFSETTO:+0200
TZNAME:CEST
DTSTART:20260329T010000
END:DAYLIGHT
BEGIN:STANDARD
TZOFFSETFROM:+0200
TZOFFSETTO:+0100
TZNAME:CET
DTSTART:20261025T010000
END:STANDARD
END:VTIMEZONE
BEGIN:VEVENT
DTSTART;TZID=Europe/Madrid:20260221T210000
DTEND;TZID=Europe/Madrid:20260221T220000
DTSTAMP:20260422T141921
CREATED:20260201T223743Z
LAST-MODIFIED:20260221T094510Z
UID:7176-1771707600-1771711200@amigosdeesencia.com
SUMMARY:Concierto XX Aniversario de Esencia 2026
DESCRIPTION:El próximo 21 de febrero tendrá lugar un concierto histórico para nuestra formación\, y será el de nuestro XX Aniversario. La Banda de Cornetas y Tambores celebrará sus 20 años de historia con un concierto y lo hará en la Iglesia Conventual del Santo Ángel\, donde ya ha sonado la música de Esencia en varias ocasiones. \nComenzará a las 21h y  aguardará alguna que otra sorpresa. \nOs esperamos.
URL:https://amigosdeesencia.com/actuaciones/concierto-xx-aniversario-de-esencia-2026
LOCATION:Iglesia del Santo Ángel\, Calle Rioja\, 23\, Sevilla\, Sevilla\, 41001\, España
ATTACH;FMTTYPE=image/jpeg:https://amigosdeesencia.com/wp-content/uploads/2026/02/IMG_9238.jpeg
END:VEVENT
END:VCALENDAR