BEGIN:VCALENDAR
VERSION:2.0
PRODID:-//Banda de Cornetas y Tambores Esencia - ECPv6.0.12//NONSGML v1.0//EN
CALSCALE:GREGORIAN
METHOD:PUBLISH
X-ORIGINAL-URL:https://amigosdeesencia.com
X-WR-CALDESC:Eventos para Banda de Cornetas y Tambores Esencia
REFRESH-INTERVAL;VALUE=DURATION:PT1H
X-Robots-Tag:noindex
X-PUBLISHED-TTL:PT1H
BEGIN:VTIMEZONE
TZID:Europe/Madrid
BEGIN:DAYLIGHT
TZOFFSETFROM:+0100
TZOFFSETTO:+0200
TZNAME:CEST
DTSTART:20260329T010000
END:DAYLIGHT
BEGIN:STANDARD
TZOFFSETFROM:+0200
TZOFFSETTO:+0100
TZNAME:CET
DTSTART:20261025T010000
END:STANDARD
END:VTIMEZONE
BEGIN:VEVENT
DTSTART;TZID=Europe/Madrid:20260208T123000
DTEND;TZID=Europe/Madrid:20260208T133000
DTSTAMP:20260424T102140
CREATED:20260201T214809Z
LAST-MODIFIED:20260204T200201Z
UID:7169-1770553800-1770557400@amigosdeesencia.com
SUMMARY:Concierto en el Círculo Mercantil 2026
DESCRIPTION:El próximo domingo 8 de febrero la Banda de Cornetas y Tambores Esencia actuará en el Círculo Mercantil e Industrial de Sevilla. \nDespués de haber actuado en el mismo lugar para clausurar la exposición por nuestro XX Aniversario\, en esta ocasión hacemos lo propio clausurando la exposición organizada por la Hermandad de San Esteban con motivo de su centenario fundacional. \nEl mismo comenzará a las 12:30h y será de entrada libre. Os esperamos.
URL:https://amigosdeesencia.com/actuaciones/concierto-en-el-circulo-mercantil-2026
LOCATION:Círculo Mercantil e Industrial de Sevilla\, Calle Sierpes\, 63\, Sevilla\, Sevilla\, 41004\, España
ATTACH;FMTTYPE=image/png:https://amigosdeesencia.com/wp-content/uploads/2026/02/cartel-definitivo-2-1.png
END:VEVENT
END:VCALENDAR