BEGIN:VCALENDAR
VERSION:2.0
PRODID:-//Banda de Cornetas y Tambores Esencia - ECPv6.0.12//NONSGML v1.0//EN
CALSCALE:GREGORIAN
METHOD:PUBLISH
X-WR-CALNAME:Banda de Cornetas y Tambores Esencia
X-ORIGINAL-URL:https://amigosdeesencia.com
X-WR-CALDESC:Eventos para Banda de Cornetas y Tambores Esencia
REFRESH-INTERVAL;VALUE=DURATION:PT1H
X-Robots-Tag:noindex
X-PUBLISHED-TTL:PT1H
BEGIN:VTIMEZONE
TZID:Europe/Madrid
BEGIN:DAYLIGHT
TZOFFSETFROM:+0100
TZOFFSETTO:+0200
TZNAME:CEST
DTSTART:20260329T010000
END:DAYLIGHT
BEGIN:STANDARD
TZOFFSETFROM:+0200
TZOFFSETTO:+0100
TZNAME:CET
DTSTART:20261025T010000
END:STANDARD
END:VTIMEZONE
BEGIN:VEVENT
DTSTART;TZID=Europe/Madrid:20260207T203000
DTEND;TZID=Europe/Madrid:20260207T213000
DTSTAMP:20260424T121814
CREATED:20260201T211337Z
LAST-MODIFIED:20260204T195826Z
UID:7162-1770496200-1770499800@amigosdeesencia.com
SUMMARY:Concierto en Los Negritos 2026
DESCRIPTION:El próximo sábado 7 de febrero de 2026 la Banda de Cornetas y Tambores Esencia actuará en la Capilla de Nuestra Señora de los Ángeles\, sede de la Hermandad de Los Negritos. \nNuestra formación ya tuvo el honor de actuar en esta sede en diciembre de 2015\, de modo que será la segunda ocasión en la que nuestra formación tocará ante el Santísimo Cristo de la Fundación y Nuestra Señora de los Ángeles. \nEl concierto dará comienzo a las 20:30h y la entrada será libre. Os esperamos.
URL:https://amigosdeesencia.com/actuaciones/concierto-en-los-negritos-2026
LOCATION:Capilla de Nuestra Señora de los Angeles\, Calle Recaredo\, 19\, Sevilla\, Sevilla\, 41003\, España
ATTACH;FMTTYPE=image/png:https://amigosdeesencia.com/wp-content/uploads/2026/02/cartel-definitivo-2.png
END:VEVENT
END:VCALENDAR