BEGIN:VCALENDAR
VERSION:2.0
PRODID:-//Banda de Cornetas y Tambores Esencia - ECPv6.0.12//NONSGML v1.0//EN
CALSCALE:GREGORIAN
METHOD:PUBLISH
X-ORIGINAL-URL:https://amigosdeesencia.com
X-WR-CALDESC:Eventos para Banda de Cornetas y Tambores Esencia
REFRESH-INTERVAL;VALUE=DURATION:PT1H
X-Robots-Tag:noindex
X-PUBLISHED-TTL:PT1H
BEGIN:VTIMEZONE
TZID:Europe/Madrid
BEGIN:DAYLIGHT
TZOFFSETFROM:+0100
TZOFFSETTO:+0200
TZNAME:CEST
DTSTART:20250330T010000
END:DAYLIGHT
BEGIN:STANDARD
TZOFFSETFROM:+0200
TZOFFSETTO:+0100
TZNAME:CET
DTSTART:20251026T010000
END:STANDARD
END:VTIMEZONE
BEGIN:VEVENT
DTSTART;TZID=Europe/Madrid:20251129T160000
DTEND;TZID=Europe/Madrid:20251129T163000
DTSTAMP:20260421T185658
CREATED:20251123T183646Z
LAST-MODIFIED:20251123T184145Z
UID:7038-1764432000-1764433800@amigosdeesencia.com
SUMMARY:Marco (Fibes)
DESCRIPTION:La Banda de Cornetas y Tambores Esencia repetirá en la segunda edición de Marco\, en el Palacio de Congresos. \n  \nLa entrada tiene un coste general de 6€ (precio reducido a grupos) y se pueden adquirir en el enlace indicado. \n  \nLa actuación de Esencia tendrá lugar a las 16h y se estima que termine a las 16:30h aproximadamente.
URL:https://amigosdeesencia.com/actuaciones/marco-fibes
LOCATION:Fibes\, Avenida Alcalde Luis Uruñuela\, Sevilla\, Sevilla\, 41020\, España
ATTACH;FMTTYPE=image/jpeg:https://amigosdeesencia.com/wp-content/uploads/2025/08/fibes-marco-1.jpg
END:VEVENT
END:VCALENDAR