BEGIN:VCALENDAR
VERSION:2.0
PRODID:-//Banda de Cornetas y Tambores Esencia - ECPv6.0.12//NONSGML v1.0//EN
CALSCALE:GREGORIAN
METHOD:PUBLISH
X-WR-CALNAME:Banda de Cornetas y Tambores Esencia
X-ORIGINAL-URL:https://amigosdeesencia.com
X-WR-CALDESC:Eventos para Banda de Cornetas y Tambores Esencia
REFRESH-INTERVAL;VALUE=DURATION:PT1H
X-Robots-Tag:noindex
X-PUBLISHED-TTL:PT1H
BEGIN:VTIMEZONE
TZID:Europe/Madrid
BEGIN:DAYLIGHT
TZOFFSETFROM:+0100
TZOFFSETTO:+0200
TZNAME:CEST
DTSTART:20250330T010000
END:DAYLIGHT
BEGIN:STANDARD
TZOFFSETFROM:+0200
TZOFFSETTO:+0100
TZNAME:CET
DTSTART:20251026T010000
END:STANDARD
END:VTIMEZONE
BEGIN:VEVENT
DTSTART;TZID=Europe/Madrid:20251101T183000
DTEND;TZID=Europe/Madrid:20251101T213000
DTSTAMP:20260421T161438
CREATED:20251026T111138Z
LAST-MODIFIED:20251026T111138Z
UID:6919-1762021800-1762032600@amigosdeesencia.com
SUMMARY:Procesión Virgen del Rosario de San Vicente 2025
DESCRIPTION:El próximo 1 de noviembre la Banda de Cornetas y Tambores Esencia volverá a poner sus sones en el Rosario de San Vicente\, abriendo paso del cortejo como viene realizando en estos años anteriores. \nEn breve se proporcionará más información sobre el itinerario de la procesión.
URL:https://amigosdeesencia.com/actuaciones/procesion-virgen-del-rosario-de-san-vicente-2025
LOCATION:Parroquia San Vicente Mártir de Sevilla\, Calle Miguel Cid\, Número 1\, Sevilla\, Sevilla\, 41002
ATTACH;FMTTYPE=image/jpeg:https://amigosdeesencia.com/wp-content/uploads/2025/10/SRG04096-scaled.jpeg
END:VEVENT
END:VCALENDAR