BEGIN:VCALENDAR
VERSION:2.0
PRODID:-//Banda de Cornetas y Tambores Esencia - ECPv6.0.12//NONSGML v1.0//EN
CALSCALE:GREGORIAN
METHOD:PUBLISH
X-ORIGINAL-URL:https://amigosdeesencia.com
X-WR-CALDESC:Eventos para Banda de Cornetas y Tambores Esencia
REFRESH-INTERVAL;VALUE=DURATION:PT1H
X-Robots-Tag:noindex
X-PUBLISHED-TTL:PT1H
BEGIN:VTIMEZONE
TZID:Europe/Paris
BEGIN:DAYLIGHT
TZOFFSETFROM:+0100
TZOFFSETTO:+0200
TZNAME:CEST
DTSTART:20250330T010000
END:DAYLIGHT
BEGIN:STANDARD
TZOFFSETFROM:+0200
TZOFFSETTO:+0100
TZNAME:CET
DTSTART:20251026T010000
END:STANDARD
END:VTIMEZONE
BEGIN:VEVENT
DTSTART;TZID=Europe/Paris:20250413T110000
DTEND;TZID=Europe/Paris:20250413T154500
DTSTAMP:20260419T201239
CREATED:20240925T095427Z
LAST-MODIFIED:20240925T100559Z
UID:6448-1744542000-1744559100@amigosdeesencia.com
SUMMARY:Borriquita de La Puebla del Río 2025
DESCRIPTION:Acompañamiento de la Banda de Cornetas y Tambores Esencia tras el paso de misterio de la Sagrada Entrada en Jerusalén\, el cual procesionará por las calles de la vecina localidad de La Puebla del Río el próximo Domingo de Ramos de 2025.
URL:https://amigosdeesencia.com/actuaciones/borriquita-puebla-del-rio-2025
LOCATION:Iglesia Nuestra Señora de la Granada\, Plaza Santísimo Cristo del Perdón\, La Puebla del Río\, Sevilla\, 41130\, España
ATTACH;FMTTYPE=image/jpeg:https://amigosdeesencia.com/wp-content/uploads/2024/09/FB_IMG_1711289269067-1-e1727258682148.jpg
END:VEVENT
END:VCALENDAR