BEGIN:VCALENDAR
VERSION:2.0
PRODID:-//Banda de Cornetas y Tambores Esencia - ECPv6.0.12//NONSGML v1.0//EN
CALSCALE:GREGORIAN
METHOD:PUBLISH
X-ORIGINAL-URL:https://amigosdeesencia.com
X-WR-CALDESC:Eventos para Banda de Cornetas y Tambores Esencia
REFRESH-INTERVAL;VALUE=DURATION:PT1H
X-Robots-Tag:noindex
X-PUBLISHED-TTL:PT1H
BEGIN:VTIMEZONE
TZID:Europe/Madrid
BEGIN:DAYLIGHT
TZOFFSETFROM:+0100
TZOFFSETTO:+0200
TZNAME:CEST
DTSTART:20250330T010000
END:DAYLIGHT
BEGIN:STANDARD
TZOFFSETFROM:+0200
TZOFFSETTO:+0100
TZNAME:CET
DTSTART:20251026T010000
END:STANDARD
END:VTIMEZONE
BEGIN:VEVENT
DTSTART;TZID=Europe/Madrid:20250323T150000
DTEND;TZID=Europe/Madrid:20250323T160000
DTSTAMP:20260419T170943
CREATED:20250323T114517Z
LAST-MODIFIED:20250323T114957Z
UID:6646-1742742000-1742745600@amigosdeesencia.com
SUMMARY:II Certamen de bandas Benacazón 2025
DESCRIPTION:El próximo 23 de marzo de 2025\, la Banda de Cornetas y Tambores Esencia participará en el certamen de bandas que organiza la Hermandad de la Vera-Cruz\, de la localidad de Benazacón (Sevilla). \n  \nEl lugar será el parque municipal de la misma y nuestra actuación está prevista en torno a las 15h.
URL:https://amigosdeesencia.com/actuaciones/ii-certamen-de-bandas-benacazon-2025
LOCATION:Parque municipal de Benacazón\, Calle los Jaenes\, 33\, Benacazón\, Sevilla\, 41805\, España
ATTACH;FMTTYPE=image/jpeg:https://amigosdeesencia.com/wp-content/uploads/2025/03/480551148_520001951144965_4154747387132726843_n.jpg
ORGANIZER;CN="Hermandad%20de%20la%20Vera-Cruz%20%28Benacaz%C3%B3n%29":MAILTO:veracruzbenacazonsecretaria@gmail.com
END:VEVENT
END:VCALENDAR