BEGIN:VCALENDAR
VERSION:2.0
PRODID:-//Banda de Cornetas y Tambores Esencia - ECPv6.0.12//NONSGML v1.0//EN
CALSCALE:GREGORIAN
METHOD:PUBLISH
X-WR-CALNAME:Banda de Cornetas y Tambores Esencia
X-ORIGINAL-URL:https://amigosdeesencia.com
X-WR-CALDESC:Eventos para Banda de Cornetas y Tambores Esencia
REFRESH-INTERVAL;VALUE=DURATION:PT1H
X-Robots-Tag:noindex
X-PUBLISHED-TTL:PT1H
BEGIN:VTIMEZONE
TZID:Europe/Madrid
BEGIN:DAYLIGHT
TZOFFSETFROM:+0100
TZOFFSETTO:+0200
TZNAME:CEST
DTSTART:20250330T010000
END:DAYLIGHT
BEGIN:STANDARD
TZOFFSETFROM:+0200
TZOFFSETTO:+0100
TZNAME:CET
DTSTART:20251026T010000
END:STANDARD
END:VTIMEZONE
BEGIN:VEVENT
DTSTART;TZID=Europe/Madrid:20250315T143000
DTEND;TZID=Europe/Madrid:20250315T153000
DTSTAMP:20260419T170927
CREATED:20250313T073531Z
LAST-MODIFIED:20250313T074659Z
UID:6630-1742049000-1742052600@amigosdeesencia.com
SUMMARY:Certamen Tomares Pasión
DESCRIPTION:El próximo sábado 15 de marzo la Banda de Cornetas y Tambores Esencia actuará en el certamen «Tomares Pasión»\,  el cual tendrá comienzo a las 13h. \n  \nNuestra actuación está prevista para las 14:30h aproximadamente\, y estaremos acompañados por la Banda de Cornetas y Tambores Nuestro Padre Jesús de los Remedios (Castilleja de la Cuesta) y la Banda de Cornetas y Tambores Santísimo Cristo de las Tres Caídas (Sevilla). \n  \n¡Os esperamos!
URL:https://amigosdeesencia.com/actuaciones/certamen-tomares-pasion
LOCATION:Jardines del Conde\, Calle de la Fuente\, 8\, Tomares\, Sevilla\, 41940\, España
ATTACH;FMTTYPE=image/jpeg:https://amigosdeesencia.com/wp-content/uploads/2025/03/Gl1nQGpXMAAdXA8.jpg
ORGANIZER;CN="Ayuntamiento%20de%20Tomares":MAILTO:alcaldia@tomares.es
END:VEVENT
END:VCALENDAR